Package: GNET2 Version: 1.22.0 Command: /Library/Frameworks/R.framework/Resources/bin/R CMD build --keep-empty-dirs --no-resave-data GNET2 StartedAt: 2025-01-31 00:45:24 -0500 (Fri, 31 Jan 2025) EndedAt: 2025-01-31 00:46:20 -0500 (Fri, 31 Jan 2025) EllapsedTime: 55.9 seconds RetCode: 0 Status: OK PackageFile: GNET2_1.22.0.tar.gz PackageFileSize: 786.4 KiB