Package: GNET2 Version: 1.22.0 Command: rm -rf GNET2.buildbin-libdir && mkdir GNET2.buildbin-libdir && /Users/biocbuild/BBS/utils/build-universal.sh GNET2_1.22.0.tar.gz /Library/Frameworks/R.framework/Resources/bin/R GNET2.buildbin-libdir StartedAt: 2025-02-01 15:09:37 -0500 (Sat, 01 Feb 2025) EndedAt: 2025-02-01 15:10:16 -0500 (Sat, 01 Feb 2025) EllapsedTime: 38.6 seconds RetCode: 0 Status: OK PackageFile: GNET2_1.22.0.tgz PackageFileSize: 912.5 KiB