Package: GLAD Version: 2.70.0 Command: /Library/Frameworks/R.framework/Resources/bin/R CMD check --install=check:GLAD.install-out.txt --library=/Library/Frameworks/R.framework/Resources/library --no-vignettes --timings GLAD_2.70.0.tar.gz StartedAt: 2025-01-31 04:38:50 -0500 (Fri, 31 Jan 2025) EndedAt: 2025-01-31 04:39:54 -0500 (Fri, 31 Jan 2025) EllapsedTime: 63.3 seconds RetCode: 0 Status: WARNINGS CheckDir: GLAD.Rcheck Warnings: 2