Package: GLAD Version: 2.70.0 Command: /Library/Frameworks/R.framework/Resources/bin/R CMD build --keep-empty-dirs --no-resave-data GLAD StartedAt: 2025-01-30 19:28:53 -0500 (Thu, 30 Jan 2025) EndedAt: 2025-01-30 19:29:47 -0500 (Thu, 30 Jan 2025) EllapsedTime: 54.4 seconds RetCode: 0 Status: OK PackageFile: GLAD_2.70.0.tar.gz PackageFileSize: 1.302 MiB