Package: GGPA Version: 1.18.0 Command: /home/biocbuild/R/R/bin/R CMD check --install=check:GGPA.install-out.txt --library=/home/biocbuild/R/R/site-library --no-vignettes --timings GGPA_1.18.0.tar.gz StartedAt: 2025-01-31 06:43:42 -0000 (Fri, 31 Jan 2025) EndedAt: 2025-01-31 06:47:22 -0000 (Fri, 31 Jan 2025) EllapsedTime: 219.2 seconds RetCode: 0 Status: OK CheckDir: GGPA.Rcheck Warnings: 0