Package: GDCRNATools Version: 1.26.0 Command: /home/biocbuild/R/R/bin/R CMD INSTALL GDCRNATools StartedAt: 2025-01-30 21:05:12 -0000 (Thu, 30 Jan 2025) EndedAt: 2025-01-30 21:06:25 -0000 (Thu, 30 Jan 2025) EllapsedTime: 73.1 seconds RetCode: 0 Status: OK