Package: GDCRNATools Version: 1.26.0 Command: F:\biocbuild\bbs-3.20-bioc\R\bin\R.exe CMD INSTALL GDCRNATools StartedAt: 2025-01-30 16:55:04 -0500 (Thu, 30 Jan 2025) EndedAt: 2025-01-30 16:56:25 -0500 (Thu, 30 Jan 2025) EllapsedTime: 80.6 seconds RetCode: 0 Status: OK