Package: GAprediction Version: 1.32.0 Command: /Library/Frameworks/R.framework/Resources/bin/R CMD INSTALL GAprediction StartedAt: 2025-01-30 16:13:30 -0500 (Thu, 30 Jan 2025) EndedAt: 2025-01-30 16:13:49 -0500 (Thu, 30 Jan 2025) EllapsedTime: 19.1 seconds RetCode: 0 Status: OK