Package: GAprediction Version: 1.32.0 Command: /Library/Frameworks/R.framework/Resources/bin/R CMD build --keep-empty-dirs --no-resave-data GAprediction StartedAt: 2025-01-30 19:15:05 -0500 (Thu, 30 Jan 2025) EndedAt: 2025-01-30 19:16:20 -0500 (Thu, 30 Jan 2025) EllapsedTime: 75.0 seconds RetCode: 0 Status: OK PackageFile: GAprediction_1.32.0.tar.gz PackageFileSize: 1.806 MiB