Package: GA4GHshiny Version: 1.28.0 Command: /home/biocbuild/R/R/bin/R CMD check --install=check:GA4GHshiny.install-out.txt --library=/home/biocbuild/R/R/site-library --no-vignettes --timings GA4GHshiny_1.28.0.tar.gz StartedAt: 2025-01-31 06:22:58 -0000 (Fri, 31 Jan 2025) EndedAt: 2025-01-31 06:28:34 -0000 (Fri, 31 Jan 2025) EllapsedTime: 335.3 seconds RetCode: 0 Status: OK CheckDir: GA4GHshiny.Rcheck Warnings: 0