Package: FitHiC Version: 1.32.0 Command: /Library/Frameworks/R.framework/Resources/bin/R CMD check --install=check:FitHiC.install-out.txt --library=/Library/Frameworks/R.framework/Resources/library --no-vignettes --timings FitHiC_1.32.0.tar.gz StartedAt: 2024-11-19 22:04:56 -0500 (Tue, 19 Nov 2024) EndedAt: 2024-11-19 22:10:32 -0500 (Tue, 19 Nov 2024) EllapsedTime: 336.1 seconds RetCode: 0 Status: OK CheckDir: FitHiC.Rcheck Warnings: 0