Package: FastqCleaner Version: 1.24.0 Command: F:\biocbuild\bbs-3.20-bioc\R\bin\R.exe CMD INSTALL FastqCleaner StartedAt: 2025-01-30 16:25:02 -0500 (Thu, 30 Jan 2025) EndedAt: 2025-01-30 16:27:15 -0500 (Thu, 30 Jan 2025) EllapsedTime: 133.0 seconds RetCode: 0 Status: OK