Package: FastqCleaner Version: 1.24.0 Command: rm -rf FastqCleaner.buildbin-libdir && mkdir FastqCleaner.buildbin-libdir && F:\biocbuild\bbs-3.20-bioc\R\bin\R.exe CMD INSTALL --build --library=FastqCleaner.buildbin-libdir FastqCleaner_1.24.0.tar.gz StartedAt: 2025-01-31 08:38:57 -0500 (Fri, 31 Jan 2025) EndedAt: 2025-01-31 08:41:24 -0500 (Fri, 31 Jan 2025) EllapsedTime: 146.7 seconds RetCode: 0 Status: OK PackageFile: FastqCleaner_1.24.0.zip PackageFileSize: 4.003 MiB