Package: FRGEpistasis Version: 1.42.0 Command: /Library/Frameworks/R.framework/Resources/bin/R CMD INSTALL FRGEpistasis StartedAt: 2025-01-30 16:48:18 -0500 (Thu, 30 Jan 2025) EndedAt: 2025-01-30 16:48:33 -0500 (Thu, 30 Jan 2025) EllapsedTime: 14.9 seconds RetCode: 0 Status: OK