Package: FRGEpistasis Version: 1.42.0 Command: /Library/Frameworks/R.framework/Resources/bin/R CMD check --install=check:FRGEpistasis.install-out.txt --library=/Library/Frameworks/R.framework/Resources/library --no-vignettes --timings FRGEpistasis_1.42.0.tar.gz StartedAt: 2025-01-31 19:41:12 -0500 (Fri, 31 Jan 2025) EndedAt: 2025-01-31 19:43:11 -0500 (Fri, 31 Jan 2025) EllapsedTime: 119.0 seconds RetCode: 0 Status: OK CheckDir: FRGEpistasis.Rcheck Warnings: 0