Package: FRASER Version: 2.2.0 Command: chmod a+r FRASER -R && F:\biocbuild\bbs-3.20-bioc\R\bin\R.exe CMD build --keep-empty-dirs --no-resave-data FRASER StartedAt: 2025-01-30 19:01:08 -0500 (Thu, 30 Jan 2025) EndedAt: 2025-01-30 19:08:11 -0500 (Thu, 30 Jan 2025) EllapsedTime: 422.6 seconds RetCode: 0 Status: OK PackageFile: FRASER_2.2.0.tar.gz PackageFileSize: 1.943 MiB