Package: FRASER Version: 2.2.0 Command: /home/biocbuild/bbs-3.20-bioc/R/bin/R CMD INSTALL FRASER StartedAt: 2025-01-30 15:54:13 -0500 (Thu, 30 Jan 2025) EndedAt: 2025-01-30 15:55:40 -0500 (Thu, 30 Jan 2025) EllapsedTime: 87.3 seconds RetCode: 0 Status: OK