Package: FGNet Version: 3.40.0 Command: /home/biocbuild/R/R/bin/R CMD INSTALL FGNet StartedAt: 2025-01-30 20:13:02 -0000 (Thu, 30 Jan 2025) EndedAt: 2025-01-30 20:13:22 -0000 (Thu, 30 Jan 2025) EllapsedTime: 20.6 seconds RetCode: 0 Status: OK