Package: FGNet Version: 3.40.0 Command: /home/biocbuild/bbs-3.20-bioc/R/bin/R CMD INSTALL FGNet StartedAt: 2025-01-30 15:09:34 -0500 (Thu, 30 Jan 2025) EndedAt: 2025-01-30 15:09:51 -0500 (Thu, 30 Jan 2025) EllapsedTime: 16.5 seconds RetCode: 0 Status: OK