Package: FGNet Version: 3.40.0 Command: /home/biocbuild/bbs-3.20-bioc/R/bin/R CMD check --install=check:FGNet.install-out.txt --library=/home/biocbuild/bbs-3.20-bioc/R/site-library --timings FGNet_3.40.0.tar.gz StartedAt: 2025-01-30 22:12:29 -0500 (Thu, 30 Jan 2025) EndedAt: 2025-01-30 22:13:28 -0500 (Thu, 30 Jan 2025) EllapsedTime: 59.1 seconds RetCode: 0 Status: WARNINGS CheckDir: FGNet.Rcheck Warnings: 1