Package: FGNet Version: 3.40.0 Command: /Library/Frameworks/R.framework/Resources/bin/R CMD INSTALL FGNet StartedAt: 2025-01-30 15:14:19 -0500 (Thu, 30 Jan 2025) EndedAt: 2025-01-30 15:14:50 -0500 (Thu, 30 Jan 2025) EllapsedTime: 30.9 seconds RetCode: 0 Status: OK