Package: FGNet Version: 3.40.0 Command: /Library/Frameworks/R.framework/Resources/bin/R CMD check --install=check:FGNet.install-out.txt --library=/Library/Frameworks/R.framework/Resources/library --no-vignettes --timings FGNet_3.40.0.tar.gz StartedAt: 2025-01-31 03:54:28 -0500 (Fri, 31 Jan 2025) EndedAt: 2025-01-31 03:56:47 -0500 (Fri, 31 Jan 2025) EllapsedTime: 138.9 seconds RetCode: 0 Status: WARNINGS CheckDir: FGNet.Rcheck Warnings: 1