Package: FGNet Version: 3.40.0 Command: rm -rf FGNet.buildbin-libdir && mkdir FGNet.buildbin-libdir && /Users/biocbuild/BBS/utils/build-universal.sh FGNet_3.40.0.tar.gz /Library/Frameworks/R.framework/Resources/bin/R FGNet.buildbin-libdir StartedAt: 2025-01-31 12:48:03 -0500 (Fri, 31 Jan 2025) EndedAt: 2025-01-31 12:48:22 -0500 (Fri, 31 Jan 2025) EllapsedTime: 19.3 seconds RetCode: 0 Status: OK PackageFile: FGNet_3.40.0.tgz PackageFileSize: 1.69 MiB