Package: FELLA Version: 1.26.0 Command: /home/biocbuild/bbs-3.20-bioc/R/bin/R CMD INSTALL FELLA StartedAt: 2025-01-30 15:10:55 -0500 (Thu, 30 Jan 2025) EndedAt: 2025-01-30 15:11:09 -0500 (Thu, 30 Jan 2025) EllapsedTime: 14.4 seconds RetCode: 0 Status: OK