Package: FEAST Version: 1.14.0 Command: chmod a+r FEAST -R && F:\biocbuild\bbs-3.20-bioc\R\bin\R.exe CMD build --keep-empty-dirs --no-resave-data FEAST StartedAt: 2025-01-30 18:52:07 -0500 (Thu, 30 Jan 2025) EndedAt: 2025-01-30 18:53:39 -0500 (Thu, 30 Jan 2025) EllapsedTime: 91.8 seconds RetCode: 0 Status: OK PackageFile: FEAST_1.14.0.tar.gz PackageFileSize: 3.373 MiB