Package: FEAST Version: 1.14.0 Command: /home/biocbuild/bbs-3.20-bioc/R/bin/R CMD build --keep-empty-dirs --no-resave-data --md5 FEAST StartedAt: 2025-01-30 17:15:21 -0500 (Thu, 30 Jan 2025) EndedAt: 2025-01-30 17:16:29 -0500 (Thu, 30 Jan 2025) EllapsedTime: 68.1 seconds RetCode: 0 Status: OK PackageFile: FEAST_1.14.0.tar.gz PackageFileSize: 3.51 MiB