Package: FEAST Version: 1.14.0 Command: /Library/Frameworks/R.framework/Resources/bin/R CMD check --install=check:FEAST.install-out.txt --library=/Library/Frameworks/R.framework/Resources/library --no-vignettes --timings FEAST_1.14.0.tar.gz StartedAt: 2025-01-31 03:52:56 -0500 (Fri, 31 Jan 2025) EndedAt: 2025-01-31 04:00:04 -0500 (Fri, 31 Jan 2025) EllapsedTime: 427.5 seconds RetCode: 0 Status: OK CheckDir: FEAST.Rcheck Warnings: 0