Package: FEAST Version: 1.14.0 Command: /Library/Frameworks/R.framework/Resources/bin/R CMD build --keep-empty-dirs --no-resave-data FEAST StartedAt: 2025-01-30 19:06:17 -0500 (Thu, 30 Jan 2025) EndedAt: 2025-01-30 19:08:46 -0500 (Thu, 30 Jan 2025) EllapsedTime: 149.6 seconds RetCode: 0 Status: OK PackageFile: FEAST_1.14.0.tar.gz PackageFileSize: 3.456 MiB