Package: FEAST Version: 1.14.0 Command: /home/biocbuild/R/R/bin/R CMD build --keep-empty-dirs --no-resave-data FEAST StartedAt: 2024-11-20 00:41:42 -0000 (Wed, 20 Nov 2024) EndedAt: 2024-11-20 00:43:09 -0000 (Wed, 20 Nov 2024) EllapsedTime: 87.1 seconds RetCode: 0 Status: OK PackageFile: FEAST_1.14.0.tar.gz PackageFileSize: 3.465 MiB