Package: ExperimentHubData Version: 1.32.0 Command: /home/biocbuild/R/R/bin/R CMD check --install=check:ExperimentHubData.install-out.txt --library=/home/biocbuild/R/R/site-library --no-vignettes --timings ExperimentHubData_1.32.0.tar.gz StartedAt: 2025-01-31 06:11:42 -0000 (Fri, 31 Jan 2025) EndedAt: 2025-01-31 06:17:07 -0000 (Fri, 31 Jan 2025) EllapsedTime: 325.4 seconds RetCode: 0 Status: WARNINGS CheckDir: ExperimentHubData.Rcheck Warnings: 1