Package: ExperimentHubData Version: 1.32.0 Command: /home/biocbuild/bbs-3.20-bioc/R/bin/R CMD check --install=check:ExperimentHubData.install-out.txt --library=/home/biocbuild/bbs-3.20-bioc/R/site-library --timings ExperimentHubData_1.32.0.tar.gz StartedAt: 2025-01-30 22:08:23 -0500 (Thu, 30 Jan 2025) EndedAt: 2025-01-30 22:12:57 -0500 (Thu, 30 Jan 2025) EllapsedTime: 273.4 seconds RetCode: 0 Status: WARNINGS CheckDir: ExperimentHubData.Rcheck Warnings: 1