Package: ExperimentHubData Version: 1.32.0 Command: /Library/Frameworks/R.framework/Resources/bin/R CMD build --keep-empty-dirs --no-resave-data ExperimentHubData StartedAt: 2025-01-30 23:31:57 -0500 (Thu, 30 Jan 2025) EndedAt: 2025-01-30 23:32:49 -0500 (Thu, 30 Jan 2025) EllapsedTime: 52.1 seconds RetCode: 0 Status: OK PackageFile: ExperimentHubData_1.32.0.tar.gz PackageFileSize: 222.9 KiB