Package: EventPointer Version: 3.14.0 Command: /home/biocbuild/bbs-3.20-bioc/R/bin/R CMD INSTALL EventPointer StartedAt: 2025-01-30 15:50:03 -0500 (Thu, 30 Jan 2025) EndedAt: 2025-01-30 15:51:10 -0500 (Thu, 30 Jan 2025) EllapsedTime: 66.8 seconds RetCode: 0 Status: OK