Package: EventPointer Version: 3.14.0 Command: /Library/Frameworks/R.framework/Resources/bin/R CMD check --install=check:EventPointer.install-out.txt --library=/Library/Frameworks/R.framework/Resources/library --no-vignettes --timings EventPointer_3.14.0.tar.gz StartedAt: 2025-01-31 19:01:39 -0500 (Fri, 31 Jan 2025) EndedAt: 2025-01-31 19:07:50 -0500 (Fri, 31 Jan 2025) EllapsedTime: 370.9 seconds RetCode: 0 Status: OK CheckDir: EventPointer.Rcheck Warnings: 0