Package: EpipwR Version: 1.0.0 Command: /home/biocbuild/R/R/bin/R CMD build --keep-empty-dirs --no-resave-data EpipwR StartedAt: 2025-01-30 23:27:14 -0000 (Thu, 30 Jan 2025) EndedAt: 2025-01-30 23:27:39 -0000 (Thu, 30 Jan 2025) EllapsedTime: 25.0 seconds RetCode: 0 Status: OK PackageFile: EpipwR_1.0.0.tar.gz PackageFileSize: 122.9 KiB