Package: EpipwR Version: 1.0.0 Command: F:\biocbuild\bbs-3.20-bioc\R\bin\R.exe CMD check --no-multiarch --install=check:EpipwR.install-out.txt --library=F:\biocbuild\bbs-3.20-bioc\R\library --no-vignettes --timings EpipwR_1.0.0.tar.gz StartedAt: 2025-01-31 01:47:52 -0500 (Fri, 31 Jan 2025) EndedAt: 2025-01-31 01:52:12 -0500 (Fri, 31 Jan 2025) EllapsedTime: 260.0 seconds RetCode: 0 Status: OK CheckDir: EpipwR.Rcheck Warnings: 0