Package: EpipwR Version: 1.0.0 Command: /home/biocbuild/bbs-3.20-bioc/R/bin/R CMD build --keep-empty-dirs --no-resave-data --md5 EpipwR StartedAt: 2025-01-30 17:10:56 -0500 (Thu, 30 Jan 2025) EndedAt: 2025-01-30 17:11:15 -0500 (Thu, 30 Jan 2025) EllapsedTime: 19.1 seconds RetCode: 0 Status: OK PackageFile: EpipwR_1.0.0.tar.gz PackageFileSize: 123.1 KiB