Package: EnrichmentBrowser Version: 2.36.0 Command: rm -rf EnrichmentBrowser.buildbin-libdir && mkdir EnrichmentBrowser.buildbin-libdir && /Users/biocbuild/BBS/utils/build-universal.sh EnrichmentBrowser_2.36.0.tar.gz /Library/Frameworks/R.framework/Resources/bin/R EnrichmentBrowser.buildbin-libdir StartedAt: 2025-01-31 12:45:01 -0500 (Fri, 31 Jan 2025) EndedAt: 2025-01-31 12:46:15 -0500 (Fri, 31 Jan 2025) EllapsedTime: 74.1 seconds RetCode: 0 Status: OK PackageFile: EnrichmentBrowser_2.36.0.tgz PackageFileSize: 1.863 MiB