Package: EnrichedHeatmap Version: 1.36.0 Command: F:\biocbuild\bbs-3.20-bioc\R\bin\R.exe CMD INSTALL EnrichedHeatmap StartedAt: 2025-01-30 15:51:01 -0500 (Thu, 30 Jan 2025) EndedAt: 2025-01-30 15:51:40 -0500 (Thu, 30 Jan 2025) EllapsedTime: 39.5 seconds RetCode: 0 Status: OK