Package: EnhancedVolcano Version: 1.24.0 Command: /home/biocbuild/R/R/bin/R CMD check --install=check:EnhancedVolcano.install-out.txt --library=/home/biocbuild/R/R/site-library --no-vignettes --timings EnhancedVolcano_1.24.0.tar.gz StartedAt: 2025-01-31 05:57:45 -0000 (Fri, 31 Jan 2025) EndedAt: 2025-01-31 05:58:43 -0000 (Fri, 31 Jan 2025) EllapsedTime: 58.0 seconds RetCode: 0 Status: OK CheckDir: EnhancedVolcano.Rcheck Warnings: 0