Package: EmpiricalBrownsMethod Version: 1.34.0 Command: /home/biocbuild/R/R/bin/R CMD check --install=check:EmpiricalBrownsMethod.install-out.txt --library=/home/biocbuild/R/R/site-library --no-vignettes --timings EmpiricalBrownsMethod_1.34.0.tar.gz StartedAt: 2025-01-31 05:57:38 -0000 (Fri, 31 Jan 2025) EndedAt: 2025-01-31 05:57:53 -0000 (Fri, 31 Jan 2025) EllapsedTime: 15.0 seconds RetCode: 0 Status: OK CheckDir: EmpiricalBrownsMethod.Rcheck Warnings: 0