Package: ERSSA Version: 1.24.0 Command: /Library/Frameworks/R.framework/Resources/bin/R CMD check --install=check:ERSSA.install-out.txt --library=/Library/Frameworks/R.framework/Resources/library --no-vignettes --timings ERSSA_1.24.0.tar.gz StartedAt: 2024-11-09 01:56:04 -0500 (Sat, 09 Nov 2024) EndedAt: 2024-11-09 02:01:10 -0500 (Sat, 09 Nov 2024) EllapsedTime: 305.9 seconds RetCode: 0 Status: OK CheckDir: ERSSA.Rcheck Warnings: 0