Package: ERSSA Version: 1.24.0 Command: /Library/Frameworks/R.framework/Resources/bin/R CMD INSTALL ERSSA StartedAt: 2025-01-30 15:53:51 -0500 (Thu, 30 Jan 2025) EndedAt: 2025-01-30 15:54:23 -0500 (Thu, 30 Jan 2025) EllapsedTime: 32.2 seconds RetCode: 0 Status: OK