Package: ENmix Version: 1.42.0 Command: /home/biocbuild/R/R/bin/R CMD check --install=check:ENmix.install-out.txt --library=/home/biocbuild/R/R/site-library --no-vignettes --timings ENmix_1.42.0.tar.gz StartedAt: 2025-01-31 05:58:43 -0000 (Fri, 31 Jan 2025) EndedAt: 2025-01-31 06:05:23 -0000 (Fri, 31 Jan 2025) EllapsedTime: 400.2 seconds RetCode: 0 Status: OK CheckDir: ENmix.Rcheck Warnings: 0