Package: EMDomics Version: 2.36.0 Command: /home/biocbuild/R/R/bin/R CMD build --keep-empty-dirs --no-resave-data EMDomics StartedAt: 2025-01-30 23:21:44 -0000 (Thu, 30 Jan 2025) EndedAt: 2025-01-30 23:22:02 -0000 (Thu, 30 Jan 2025) EllapsedTime: 18.0 seconds RetCode: 0 Status: OK PackageFile: EMDomics_2.36.0.tar.gz PackageFileSize: 131.8 KiB