Package: EMDomics Version: 2.36.0 Command: chmod a+r EMDomics -R && F:\biocbuild\bbs-3.20-bioc\R\bin\R.exe CMD build --keep-empty-dirs --no-resave-data EMDomics StartedAt: 2025-01-30 18:35:34 -0500 (Thu, 30 Jan 2025) EndedAt: 2025-01-30 18:35:55 -0500 (Thu, 30 Jan 2025) EllapsedTime: 21.3 seconds RetCode: 0 Status: OK PackageFile: EMDomics_2.36.0.tar.gz PackageFileSize: 87.85 KiB