Package: EMDomics Version: 2.36.0 Command: rm -rf EMDomics.buildbin-libdir && mkdir EMDomics.buildbin-libdir && F:\biocbuild\bbs-3.20-bioc\R\bin\R.exe CMD INSTALL --build --library=EMDomics.buildbin-libdir EMDomics_2.36.0.tar.gz StartedAt: 2025-01-31 08:35:45 -0500 (Fri, 31 Jan 2025) EndedAt: 2025-01-31 08:36:16 -0500 (Fri, 31 Jan 2025) EllapsedTime: 31.5 seconds RetCode: 0 Status: OK PackageFile: EMDomics_2.36.0.zip PackageFileSize: 182.7 KiB