Package: EMDomics Version: 2.36.0 Command: /home/biocbuild/bbs-3.20-bioc/R/bin/R CMD check --install=check:EMDomics.install-out.txt --library=/home/biocbuild/bbs-3.20-bioc/R/site-library --timings EMDomics_2.36.0.tar.gz StartedAt: 2025-01-30 21:54:35 -0500 (Thu, 30 Jan 2025) EndedAt: 2025-01-30 21:55:40 -0500 (Thu, 30 Jan 2025) EllapsedTime: 65.1 seconds RetCode: 0 Status: OK CheckDir: EMDomics.Rcheck Warnings: 0