Package: EMDomics Version: 2.36.0 Command: /Library/Frameworks/R.framework/Resources/bin/R CMD build --keep-empty-dirs --no-resave-data EMDomics StartedAt: 2025-01-30 23:08:30 -0500 (Thu, 30 Jan 2025) EndedAt: 2025-01-30 23:08:45 -0500 (Thu, 30 Jan 2025) EllapsedTime: 15.0 seconds RetCode: 0 Status: OK PackageFile: EMDomics_2.36.0.tar.gz PackageFileSize: 326.9 KiB