Package: ELMER Version: 2.30.0 Command: /home/biocbuild/R/R/bin/R CMD INSTALL ELMER StartedAt: 2025-01-30 21:04:34 -0000 (Thu, 30 Jan 2025) EndedAt: 2025-01-30 21:05:42 -0000 (Thu, 30 Jan 2025) EllapsedTime: 68.2 seconds RetCode: 0 Status: OK